BEGIN:VCALENDAR
VERSION:2.0
METHOD:PUBLISH
BEGIN:VEVENT
DTSTAMP:20260423T231303Z
DTSTART:20191005T130000Z
DTEND:20191005T160000Z
SUMMARY:Employment Information Session
LOCATION:15800 Yonge Street, Aurora, Ontario, L4G 3H7 
END:VEVENT
END:VCALENDAR
