BEGIN:VCALENDAR
VERSION:2.0
METHOD:PUBLISH
BEGIN:VEVENT
DTSTAMP:20260423T043906Z
DTSTART:20230624T130000Z
DTEND:20230624T160000Z
SUMMARY:Employment Information Session
LOCATION:3300 Highway 7 East, Markham, Ontario, L3R 8C3
END:VEVENT
END:VCALENDAR
