BEGIN:VCALENDAR
VERSION:2.0
METHOD:PUBLISH
BEGIN:VEVENT
DTSTAMP:20260422T202437Z
DTSTART:20231130T170000Z
DTEND:20231130T180000Z
SUMMARY:Community Safety Data Portal Training Academy
END:VEVENT
END:VCALENDAR
