BEGIN:VCALENDAR
VERSION:2.0
METHOD:PUBLISH
BEGIN:VEVENT
DTSTAMP:20260425T143455Z
DTSTART:20250624T220000Z
DTEND:20250625T010000Z
SUMMARY:Employment Mentoring Session
LOCATION:70 Bales Dr E, East Gwillimbury, Ontario, L9N 0L3
END:VEVENT
END:VCALENDAR
