BEGIN:VCALENDAR
VERSION:2.0
METHOD:PUBLISH
BEGIN:VEVENT
DTSTAMP:20260421T170021Z
DTSTART:20250731T203000Z
DTEND:20250731T220000Z
SUMMARY:Pan African Crosswalk Unveiling
LOCATION:3291 Stouffville Road, Whitchurch - Stouffville , Ontario, L4A 3W9
END:VEVENT
END:VCALENDAR
