BEGIN:VCALENDAR
VERSION:2.0
METHOD:PUBLISH
BEGIN:VEVENT
DTSTAMP:20260425T150253Z
DTSTART:20251004T210000Z
DTEND:20251005T020000Z
SUMMARY:Mid-Autumn Festival
LOCATION:3291 Stouffville Road, Whitchurch - Stouffville , Ontario, L4A 3W9
END:VEVENT
END:VCALENDAR
