BEGIN:VCALENDAR
VERSION:2.0
METHOD:PUBLISH
BEGIN:VEVENT
DTSTAMP:20260424T022622Z
DTSTART:20260409T170000Z
DTEND:20260409T220000Z
SUMMARY:Child Car Seat Clinic (Aurora)
LOCATION:300 Earl Stewart Drive, Aurora, Ontario, L4G 7Z5
END:VEVENT
END:VCALENDAR
