BEGIN:VCALENDAR
VERSION:2.0
METHOD:PUBLISH
BEGIN:VEVENT
DTSTAMP:20260421T220650Z
DTSTART:20260506T220000Z
DTEND:20260507T010000Z
SUMMARY:Employment Mentoring Session
LOCATION:3291 Stouffville Rd, Stouffville, Ontario, L4A 7X5
END:VEVENT
END:VCALENDAR
