BEGIN:VCALENDAR
VERSION:2.0
METHOD:PUBLISH
BEGIN:VEVENT
DTSTAMP:20260421T043420Z
DTSTART:20260509T130000Z
DTEND:20260509T150000Z
SUMMARY:Gloves on: Women in Motion
LOCATION:161 Spadina Ave, Toronto, Ontario, M5V 2L6
END:VEVENT
END:VCALENDAR
