BEGIN:VCALENDAR
VERSION:2.0
METHOD:PUBLISH
BEGIN:VEVENT
DTSTAMP:20260425T204204Z
DTSTART:20260511T130000Z
DTEND:20260511T160000Z
SUMMARY:Employment Mentoring Session
LOCATION:171 Major Mackenzie Dr W, Richmond Hill, Ontario, L4C5S1
END:VEVENT
END:VCALENDAR
