BEGIN:VCALENDAR
VERSION:2.0
METHOD:PUBLISH
BEGIN:VEVENT
DTSTAMP:20260425T204852Z
DTSTART:20260521T170000Z
DTEND:20260521T200000Z
SUMMARY:Employment Mentoring Session
LOCATION:171 Major Mackenzie Dr W, Richmond Hill, Ontario, L4C5S1
END:VEVENT
END:VCALENDAR
