BEGIN:VCALENDAR
VERSION:2.0
METHOD:PUBLISH
BEGIN:VEVENT
DTSTAMP:20260421T215533Z
DTSTART:20260627T150000Z
DTEND:20260627T200000Z
SUMMARY:Rise of Road Tennis
LOCATION:3291 Stouffville Road, Whichurch-Stouffville, Ontario, L4A 3W9
END:VEVENT
END:VCALENDAR
