BEGIN:VCALENDAR
VERSION:2.0
METHOD:PUBLISH
BEGIN:VEVENT
DTSTAMP:20260421T220445Z
DTSTART:20260807T110000Z
DTEND:20260807T180000Z
SUMMARY:Ninth Annual MADD York Region Golf Tournament Sponsorship Opportunities 
LOCATION:17700 Keele St, King, ON, L7B 0G7
END:VEVENT
END:VCALENDAR
