BEGIN:VCALENDAR
VERSION:2.0
METHOD:PUBLISH
BEGIN:VEVENT
DTSTAMP:20260422T165903Z
DTSTART:20241208T150000Z
DTEND:20241208T190000Z
SUMMARY:4 - Toys R Us, Vaughan
LOCATION:200 Windflower Gate, Vaughan, ON
END:VEVENT
END:VCALENDAR
