BEGIN:VCALENDAR
VERSION:2.0
METHOD:PUBLISH
BEGIN:VEVENT
DTSTAMP:20260420T220543Z
DTSTART:20250322T150000Z
DTEND:20250322T190000Z
SUMMARY:International Day for the Elimination of Racial Discrimination - Community Booth Registration
LOCATION:60 McDowell Gate, Markham, ON, L6G 1B5
END:VEVENT
END:VCALENDAR
