BEGIN:VCALENDAR
VERSION:2.0
METHOD:PUBLISH
BEGIN:VEVENT
DTSTAMP:20260419T131123Z
DTSTART:20251122T150000Z
DTEND:20251122T210000Z
SUMMARY:4 - Canadian Tire, Woodbridge
LOCATION:3850 Highway 7, Woodbridge, ON
END:VEVENT
END:VCALENDAR
