BEGIN:VCALENDAR
VERSION:2.0
METHOD:PUBLISH
BEGIN:VEVENT
DTSTAMP:20260422T170336Z
DTSTART:20251130T150000Z
DTEND:20251130T200000Z
SUMMARY:1- Canadian Tire, Aurora
LOCATION:15400 Bayview Ave, Aurora, ON
END:VEVENT
END:VCALENDAR
