BEGIN:VCALENDAR
VERSION:2.0
METHOD:PUBLISH
BEGIN:VEVENT
DTSTAMP:20260421T220821Z
DTSTART:20260428T120000Z
DTEND:20260428T200000Z
SUMMARY:Canadian Anti-Organized Crime Conference
LOCATION:63 Eric T Smith Way, Aurora, ON, L4G 0Z6
END:VEVENT
END:VCALENDAR
