BEGIN:VCALENDAR
VERSION:2.0
METHOD:PUBLISH
BEGIN:VEVENT
DTSTAMP:20260421T220347Z
DTSTART:20260513T120000Z
DTEND:20260513T200000Z
SUMMARY:Eastern Canada Versadex/eJust Users Group - Spring Conference
LOCATION:63 Eric T. Smith Way, Aurora, ON 
END:VEVENT
END:VCALENDAR
