BEGIN:VCALENDAR
VERSION:2.0
METHOD:PUBLISH
BEGIN:VEVENT
DTSTAMP:20260421T043626Z
DTSTART:20260529T230000Z
DTEND:20260529T230000Z
SUMMARY:Hold Up Hoedown
LOCATION:63 Eric T. Smith Way, Aurora
END:VEVENT
END:VCALENDAR
